BEGIN:VCALENDAR
VERSION:2.0
PRODID:-//Kultur Gruppe St. Antönien//NONSGML kigkonsult.se iCalcreator 2.1
 6.12//
METHOD:PUBLISH
X-MS-OLK-FORCEINSPECTOROPEN:TRUE
BEGIN:VEVENT
UID:20260425T224439CEST-9161GHLWxN@Kultur Gruppe St. Antönien
DTSTAMP:20260425T204439Z
DESCRIPTION:Stäffelihengert mit Lesung im Laubänähus und Begnegungsmarkt au
 f dem Platz      
DTSTART:20241226T140000
DTEND:20241226T143000
ORGANIZER:MAILTO:Kultur Gruppe St. Antönien <madlen.fluetsch@kultur-gruppe.
 ch>
SUMMARY:Stäffalihengert auf dem Platz St.Antönien
END:VEVENT
END:VCALENDAR
