BEGIN:VCALENDAR
VERSION:2.0
PRODID:-//Kultur Gruppe St. Antönien//NONSGML kigkonsult.se iCalcreator 2.1
 6.12//
METHOD:PUBLISH
X-MS-OLK-FORCEINSPECTOROPEN:TRUE
BEGIN:VEVENT
UID:20260425T210339CEST-8061G6a1g2@Kultur Gruppe St. Antönien
DTSTAMP:20260425T190339Z
DESCRIPTION:Buchvernissage  'Das Tal an der Grenze' von Holger Finze
DTSTART:20241201T090000
DTEND:20241201T093000
ORGANIZER:MAILTO:Kultur Gruppe St. Antönien <madlen.fluetsch@kultur-gruppe.
 ch>
SUMMARY:Buchvernissage 'Das Tal an der Grenze'
END:VEVENT
END:VCALENDAR
